BEGIN:VCALENDAR
VERSION:2.0
PRODID:Events Booking
BEGIN:VEVENT
UID:69e72e7c971b6
SUMMARY:Jamaram
DESCRIPTION:Reggae\, globale Club-Sounds und Urban Grooves
LOCATION:2. OG
DTSTART:20271119T190000Z
DTEND:20271119T230000Z
DTSTAMP:20260416T110148Z
ORGANIZER;CN=Rocket Club:MAILTO:info@rocketclub.de
END:VEVENT
END:VCALENDAR