BEGIN:VCALENDAR
VERSION:2.0
PRODID:Events Booking
BEGIN:VEVENT
UID:69e63f04cae28
SUMMARY:80ies Flashback Party
DESCRIPTION:DJ Peiss lässt hier eine der kreativsten Dekaden des letzten J
 ahrhunderts wieder aufleben.
LOCATION:EG + 1. OG
DTSTART:20240217T200000Z
DTEND:20240218T020000Z
DTSTAMP:20220302T140033Z
ORGANIZER;CN=Rocket Club:MAILTO:info@rocketclub.de
END:VEVENT
END:VCALENDAR