BEGIN:VCALENDAR
VERSION:2.0
PRODID:Events Booking
BEGIN:VEVENT
UID:69e99b2eb8707
SUMMARY:70ies-Party \"The Ballroom Blitz\" 
DESCRIPTION:Von ABBA bis ZAPPA: Rock &amp\; Pop vom Feinsten aus den Siebz
 igern
LOCATION:EG
DTSTART:20241123T200000Z
DTEND:20241124T010000Z
DTSTAMP:20220328T093446Z
ORGANIZER;CN=Rocket Club:MAILTO:info@rocketclub.de
END:VEVENT
END:VCALENDAR