BEGIN:VCALENDAR
VERSION:2.0
PRODID:Events Booking
BEGIN:VEVENT
UID:69e6d40153e33
SUMMARY:Let There Be Rock
DESCRIPTION:LET THERE BE ROCK … und damit Ende der Diskussion!
LOCATION:EG
DTSTART:20250503T190000Z
DTEND:20250504T010000Z
DTSTAMP:20240717T105153Z
ORGANIZER;CN=Rocket Club:MAILTO:info@rocketclub.de
END:VEVENT
END:VCALENDAR