BEGIN:VCALENDAR
VERSION:2.0
PRODID:Events Booking
BEGIN:VEVENT
UID:69ed7a97602d8
SUMMARY:Raketendisco
DESCRIPTION:Ein Abend voller Musik\, die Dr. Oele liebt.
LOCATION:EG
DTSTART:20250620T190000Z
DTEND:20250621T010000Z
DTSTAMP:20250507T123539Z
ORGANIZER;CN=Rocket Club:MAILTO:info@rocketclub.de
END:VEVENT
END:VCALENDAR