BEGIN:VCALENDAR
VERSION:2.0
PRODID:Events Booking
BEGIN:VEVENT
UID:69e791114f47a
SUMMARY:Flinta*Rock*Fete
DESCRIPTION:FLINTA* &amp\; Women Party: Laut\, wild\, tanzbar. 60 Jahre Git
 arrenpower im Safe Space.
LOCATION:2. OG
DTSTART:20261009T190000Z
DTEND:20261010T010000Z
DTSTAMP:20260415T122714Z
ORGANIZER;CN=Rocket Club:MAILTO:info@rocketclub.de
END:VEVENT
END:VCALENDAR