BEGIN:VCALENDAR
VERSION:2.0
PRODID:Events Booking
BEGIN:VEVENT
UID:69e7d33a1b72d
SUMMARY:Lenze & de Buam
DESCRIPTION:+ Support: Raketenumschau - IndieRock aus München
LOCATION:2. OG
DTSTART:20240927T180000Z
DTEND:20240927T220000Z
DTSTAMP:20221116T150903Z
ORGANIZER;CN=Rocket Club:MAILTO:info@rocketclub.de
END:VEVENT
END:VCALENDAR