BEGIN:VCALENDAR
VERSION:2.0
PRODID:Events Booking
BEGIN:VEVENT
UID:69e6576351bba
SUMMARY:Aaron Brooks & Band
DESCRIPTION:60er/70er Jahre Psychedelic Rock\, Folk und orchestrale Musik m
 it düsteren Texten.
LOCATION:2. OG
DTSTART:20240921T180000Z
DTEND:20240921T220000Z
DTSTAMP:20240409T131657Z
ORGANIZER;CN=Rocket Club:MAILTO:info@rocketclub.de
END:VEVENT
END:VCALENDAR