BEGIN:VCALENDAR
VERSION:2.0
PRODID:Events Booking
BEGIN:VEVENT
UID:69e6d2842a27d
SUMMARY:Jon Kenzie
DESCRIPTION:+ Special Guests
LOCATION:1. OG
DTSTART:20250123T180000Z
DTEND:20250123T223000Z
DTSTAMP:20231107T094816Z
ORGANIZER;CN=Rocket Club:MAILTO:info@rocketclub.de
END:VEVENT
END:VCALENDAR