BEGIN:VCALENDAR
VERSION:2.0
PRODID:Events Booking
BEGIN:VEVENT
UID:69e77c01306e6
SUMMARY:FIVA
DESCRIPTION:Toller Gast: LENER
LOCATION:2. OG
DTSTART:20260511T170000Z
DTEND:20260511T220000Z
DTSTAMP:20251204T103629Z
ORGANIZER;CN=Rocket Club:MAILTO:info@rocketclub.de
END:VEVENT
END:VCALENDAR