BEGIN:VCALENDAR
VERSION:2.0
PRODID:Events Booking
BEGIN:VEVENT
UID:69e9dca9d3d5e
SUMMARY:Mary Jane´s Soundgarden
DESCRIPTION:Funkiger Indie-Soul voller Energie und Groove – garantiert ta
 nzbar!
LOCATION:2. OG
DTSTART:20260529T180000Z
DTEND:20260529T220000Z
DTSTAMP:20251204T133815Z
ORGANIZER;CN=Rocket Club:MAILTO:info@rocketclub.de
END:VEVENT
END:VCALENDAR